BEGIN:VCALENDAR
VERSION:2.0
PRODID:-//ChamberMaster//Event Calendar 2.0//EN
METHOD:PUBLISH
X-PUBLISHED-TTL:P1H
REFRESH-INTERVAL:P1H
CALSCALE:GREGORIAN
BEGIN:VTIMEZONE
TZID:Pacific/Auckland
BEGIN:DAYLIGHT
RRULE:FREQ=YEARLY;BYMONTH=9;BYDAY=-1SU
DTSTART:20080101T000000
TZOFFSETFROM:1200
TZOFFSETTO:1300
TZNAME:New Zealand Daylight Time
END:DAYLIGHT
BEGIN:STANDARD
RRULE:FREQ=YEARLY;BYMONTH=4;BYDAY=1SU
DTSTART:20080101T000000
TZOFFSETFROM:1300
TZOFFSETTO:1200
TZNAME:New Zealand Standard Time
END:STANDARD
END:VTIMEZONE
BEGIN:VEVENT
DTSTART;TZID=Pacific/Auckland:20260506T123000
DTEND;TZID=Pacific/Auckland:20260506T133000
X-MICROSOFT-CDO-ALLDAYEVENT:FALSE
SUMMARY:ANZ Agricultural Economist Overview
DESCRIPTION:Join us at The Chamber on 6 May to hear from Matt Dilly\, Agricultural Economist at ANZ.\n\nMatt will provide an overview of the current economic environment and key trends affecting New Zealand's agricultural sector. With over 12 years' experience as an agricultural economist at Fonterra\, the Ministry for Primary Industries\, and Firstgrain\, Matt has worked across every sector of New Zealand's agricultural economy. Matt publishes ANZ's Agri Focus and brings a deep understanding of the opportunities and challenges facing primary producers today.
X-ALT-DESC;FMTTYPE=text/html:<!DOCTYPE html><html><head><title></title></head><body aria-disabled="false"><p>Join us at The Chamber on 6 May to hear from Matt Dilly\, Agricultural Economist at ANZ.<br><br>Matt will provide an overview of the current economic environment and key trends affecting New Zealand&rsquo\;s agricultural sector. With over 12 years&rsquo\; experience as an agricultural economist at Fonterra\, the Ministry for Primary Industries\, and Firstgrain\, Matt has worked across every sector of New Zealand&rsquo\;s agricultural economy. Matt publishes ANZ&rsquo\;s Agri Focus and brings a deep understanding of the opportunities and challenges facing primary producers today.</p></body></html>
LOCATION:Level 1\, 6-8 Scott Street Blenheim Marlborough District 7201
UID:e.2702.1443045
SEQUENCE:3
DTSTAMP:20260424T072056Z
URL:https://business.marlboroughchamber.nz/eventcalendar/Details/anz-agricultural-economist-overview-1709152?sourceTypeId=Hub
END:VEVENT
END:VCALENDAR
