BEGIN:VCALENDAR
VERSION:2.0
PRODID:-//ChamberMaster//Event Calendar 2.0//EN
METHOD:PUBLISH
X-PUBLISHED-TTL:P1H
REFRESH-INTERVAL:P1H
CALSCALE:GREGORIAN
BEGIN:VTIMEZONE
TZID:Pacific/Auckland
BEGIN:DAYLIGHT
RRULE:FREQ=YEARLY;BYMONTH=9;BYDAY=-1SU
DTSTART:20080101T000000
TZOFFSETFROM:1200
TZOFFSETTO:1300
TZNAME:New Zealand Daylight Time
END:DAYLIGHT
BEGIN:STANDARD
RRULE:FREQ=YEARLY;BYMONTH=4;BYDAY=1SU
DTSTART:20080101T000000
TZOFFSETFROM:1300
TZOFFSETTO:1200
TZNAME:New Zealand Standard Time
END:STANDARD
END:VTIMEZONE
BEGIN:VEVENT
DTSTART;TZID=Pacific/Auckland:20260423T173000
DTEND;TZID=Pacific/Auckland:20260423T190000
X-MICROSOFT-CDO-ALLDAYEVENT:FALSE
SUMMARY:Business After 5 | Port Marlborough
DESCRIPTION:You do not want to miss this exclusive opportunity to see behind the gates at Port Marlborough!THIS EVENT HAS NOW SOLD OUT - Please email kylie@mcoc.org.nz to be added to the waitlist.Port Marlborough is one of New Zealand's busiest ports\, with more than 3\,000 large vessel visits each year. With a vision to be an environmentally restorative port\, driving success for Marlborough\, it plays an important role in keeping our region connected and moving. From enabling Cook Strait ferry services and supporting national freight flows\, to facilitating aquaculture\, forestry exports and a cruise industry that delivers around $36.4 million annually to Marlborough\, the port sits at the centre of it all. It is also home to one of New Zealand's largest marina networks   Marlborough Sounds Marinas\, supporting lifeline access for Sounds Residents\, aquaculture\, marine tourism and recreational boating across the Sounds.\n\nJoin us for a Business After 5 event at Port Marlborough and experience this first-hand.\n\nHear from Chief Executive Rhys Welbourn and meet the port's leadership team\, then step aboard for a guided bus tour through the port. You'll see live operations across the waterfront\, meet the team behind them\, and gain insight into the Waitohi Ferry Redevelopment Project\, a nationally significant investment now progressing on the ground\, bringing to life how Port Marlborough operates as a vital facilitator of Marlborough's key industries. Whether you're connected through business or simply interested in how the port contributes to the region\, this is a unique opportunity to experience it up close.\n\nWhat to expect: A short introduction to Port Marlborough and their role in the regionGuided bus tour of the port and overview of operational and project areas Insight into the work underway on the Waitohi Ferry Redevelopment ProjectNetworking with the Marlborough business community\n\nCome and see what's happening beyond the port gate!\n* * * Please note\, starting at a later time of 5.30pm\, to allow for independent travel through from Blenheim * * *
X-ALT-DESC;FMTTYPE=text/html:<!DOCTYPE html><html><head><title></title></head><body aria-disabled="false"><p><strong fr-original-style="" style="font-weight: 700\;">You do not want to miss this exclusive opportunity to see behind the gates at Port Marlborough!</strong></p><p><span style="color: rgb(250\, 197\, 28)\;"><strong fr-original-style="" style="font-weight: 700\;">THIS EVENT HAS NOW SOLD OUT </strong></span><span style="color: rgb(0\, 0\, 0)\;">- Please email <a data-fr-linked="true" fr-original-style="" href="mailto:kylie@mcoc.org.nz" style="user-select: auto\; color: inherit\;">kylie@mcoc.org.nz</a> to be added to the waitlist.</span></p><p>Port Marlborough is one of New Zealand&rsquo\;s busiest ports\, with more than 3\,000 large vessel visits each year. With a vision to be an environmentally restorative port\, driving success for Marlborough\, it plays an important role in keeping our region connected and moving. From enabling Cook Strait ferry services and supporting national freight flows\, to facilitating aquaculture\, forestry exports and a cruise industry that delivers around $36.4 million annually to Marlborough\, the port sits at the centre of it all. It is also home to one of New Zealand&rsquo\;s largest marina networks &ndash\; Marlborough Sounds Marinas\, supporting lifeline access for Sounds Residents\, aquaculture\, marine tourism and recreational boating across the Sounds.<br><br><strong fr-original-style="" style="font-weight: 700\;">Join us for a Business After 5 event at Port Marlborough and experience this first-hand.</strong><br><br>Hear from Chief Executive Rhys Welbourn and meet the port&rsquo\;s leadership team\, then step aboard for a guided bus tour through the port. You&rsquo\;ll see live operations across the waterfront\, meet the team behind them\, and gain insight into the Waitohi Ferry Redevelopment Project\, a nationally significant investment now progressing on the ground\, bringing to life how Port Marlborough operates as a vital facilitator of Marlborough&rsquo\;s key industries. Whether you&rsquo\;re connected through business or simply interested in how the port contributes to the region\, this is a unique opportunity to experience it up close.<br><br><strong fr-original-style="" style="font-weight: 700\;">What to expect:&nbsp\;</strong></p><ul fr-original-style="" style="list-style-position: inside\;"><li>A short introduction to Port Marlborough and their role in the region</li><li>Guided bus tour of the port and overview of operational and project areas&nbsp\;</li><li>Insight into the work underway on the Waitohi Ferry Redevelopment Project</li><li>Networking with the Marlborough business community<br><br><strong fr-original-style="" style="font-weight: 700\;">Come and see what&rsquo\;s happening beyond the port gate!</strong></li></ul><p><br></p><p><strong fr-original-style="" style="font-weight: 700\;">* * * Please note\, starting at a later time of 5.30pm\, to allow for independent travel through from Blenheim * * *&nbsp\;</strong></p><p><strong fr-original-style="" style="font-weight: 700\;"><br></strong></p><p><br></p></body></html>
LOCATION:14 Auckland Street Picton Marlborough District 7250
UID:e.2702.1439786
SEQUENCE:3
DTSTAMP:20260424T054610Z
URL:https://business.marlboroughchamber.nz/eventcalendar/Details/business-after-5-port-marlborough-1704419?sourceTypeId=Hub
END:VEVENT
END:VCALENDAR
