BEGIN:VCALENDAR
VERSION:2.0
PRODID:-//ChamberMaster//Event Calendar 2.0//EN
METHOD:PUBLISH
X-PUBLISHED-TTL:P1H
REFRESH-INTERVAL:P1H
CALSCALE:GREGORIAN
BEGIN:VTIMEZONE
TZID:Pacific/Auckland
BEGIN:DAYLIGHT
RRULE:FREQ=YEARLY;BYMONTH=9;BYDAY=-1SU
DTSTART:20080101T000000
TZOFFSETFROM:1200
TZOFFSETTO:1300
TZNAME:New Zealand Daylight Time
END:DAYLIGHT
BEGIN:STANDARD
RRULE:FREQ=YEARLY;BYMONTH=4;BYDAY=1SU
DTSTART:20080101T000000
TZOFFSETFROM:1300
TZOFFSETTO:1200
TZNAME:New Zealand Standard Time
END:STANDARD
END:VTIMEZONE
BEGIN:VEVENT
DTSTART;TZID=Pacific/Auckland:20260429T160000
DTEND;TZID=Pacific/Auckland:20260429T180000
X-MICROSOFT-CDO-ALLDAYEVENT:FALSE
SUMMARY:Business Women's Networking Group | Fidelio Cafe & Wine Bar
DESCRIPTION:Join us at Fidelio Cafe and Wine Bar for our next Business Women's Networking Group Event.With special guest speaker\, Dr Bex Bell.Dr Bex is a coach\, speaker and author who brings a fresh\, relatable\, evidence-based approach to healthy high-performance.  With a background spanning criminal psychology\, public health\, and the fitness industry\, she shares practical tools to help leaders and high-performers to excel without burning out\, manage self-doubt and the Inner Critic\, and confidently navigate pressure.\nThe late afternoon format will look a little like this:#   Welcome and Intro#   Drinks and networking (please purchase your own refreshments at the bar)      Snacks kindly provided by Neil and the team at Fidelio#   Inspiring Guest Speaker - Dr Bex Bell#   Q & A#   Close (and stay on for general networking)\nThere is no charge to attend this event - but you need to be a member to register.For non-members\, please contact Kylie at the Chamber for options.
X-ALT-DESC;FMTTYPE=text/html:<!DOCTYPE html><html><head><title></title></head><body aria-disabled="false"><p><strong fr-original-style="" style="font-weight: 700\;">Join us at Fidelio Cafe and Wine Bar for our next Business Women&#39\;s Networking Group Event.</strong></p><p><span style="color: rgb(250\, 197\, 28)\;"><strong fr-original-style="" style="font-weight: 700\;">With special guest speaker\, Dr Bex Bell.</strong></span></p><p><em>Dr Bex is a coach\, speaker and author who brings a fresh\, relatable\, evidence-based approach to healthy high-performance. &nbsp\;With a background spanning criminal psychology\, public health\, and the fitness industry\, she shares practical tools to help leaders and high-performers to excel without burning out\, manage self-doubt and the Inner Critic\, and confidently navigate pressure.</em></p><p><br></p><p>The late afternoon format will look a little like this:</p><p># &nbsp\; Welcome and Intro</p><p># &nbsp\; Drinks and networking (please purchase your own refreshments at the bar)&nbsp\;</p><p>&nbsp\; &nbsp\; &nbsp\;Snacks kindly provided by Neil and the team at Fidelio</p><p># &nbsp\; Inspiring Guest Speaker - Dr Bex Bell</p><p># &nbsp\; Q &amp\; A</p><p># &nbsp\; Close (and stay on for general networking)</p><p><br></p><p>There is no charge to attend this event - but you need to be a member to register.</p><p>For non-members\, please contact <a fr-original-style="" href="mailto:kylie@mcoc.org.nz" style="user-select: auto\;">Kylie</a> at the Chamber for options.</p><p><br></p><p><br></p></body></html>
LOCATION:2 Sinclair Street Blenheim Marlborough District 7201
UID:e.2702.1438647
SEQUENCE:3
DTSTAMP:20260424T055651Z
URL:https://business.marlboroughchamber.nz/eventcalendar/Details/business-women-s-networking-group-fidelio-cafe-wine-bar-1702810?sourceTypeId=Hub
END:VEVENT
END:VCALENDAR
