BEGIN:VCALENDAR
VERSION:2.0
PRODID:-//ChamberMaster//Event Calendar 2.0//EN
METHOD:PUBLISH
X-PUBLISHED-TTL:P1H
REFRESH-INTERVAL:P1H
CALSCALE:GREGORIAN
BEGIN:VTIMEZONE
TZID:Pacific/Auckland
BEGIN:DAYLIGHT
RRULE:FREQ=YEARLY;BYMONTH=9;BYDAY=-1SU
DTSTART:20080101T000000
TZOFFSETFROM:1200
TZOFFSETTO:1300
TZNAME:New Zealand Daylight Time
END:DAYLIGHT
BEGIN:STANDARD
RRULE:FREQ=YEARLY;BYMONTH=4;BYDAY=1SU
DTSTART:20080101T000000
TZOFFSETFROM:1300
TZOFFSETTO:1200
TZNAME:New Zealand Standard Time
END:STANDARD
END:VTIMEZONE
BEGIN:VEVENT
DTSTART;TZID=Pacific/Auckland:20260618T140000
DTEND;TZID=Pacific/Auckland:20260618T160000
X-MICROSOFT-CDO-ALLDAYEVENT:FALSE
SUMMARY:Cyber Security for Business Leaders
DESCRIPTION:Presented in plain language by Hazel Trethowen\, Client Manager at Cloudland.  This workshop came about after a conversation with our non-technical EO\, who finally said "now I get it." It quickly became clear there is a real need for cyber security to be explained without the jargon or technical language that can leave many business owners feeling lost.  Hazel will break it down in a way that's easy to understand\, with practical steps businesses can take away to strengthen their cyber security. Cloudland are valued partners of our Chamber and are pleased to offer this heavily discounted workshop to our members\, supporting businesses across Marlborough.Cyber security is no longer just an IT concern   it's a core business risk that affects operations\, reputation\, and financial resilience. This practical\, non‑technical workshop is designed for business owners and leaders who want to better understand cyber risk and the security measures that help reduce it\, without needing deep technical knowledge.Using clear language and real‑world examples\, the session explores how cyber breaches actually occur\, what attackers are typically trying to achieve\, and why organisations of all sizes are targeted. It introduces a layered approach to cyber security   covering foundational protections such as email security\, identity protection\, endpoint monitoring\, backups\, and incident planning   and explains how these controls work together to reduce risk.Attendees will leave with a clearer understanding of what "good" cyber security looks like\, what questions to ask their IT provider\, and how leadership decisions influence an organisation's security posture. The session is intended to inform better conversations and smarter decision‑making\, rather than provide a one‑size‑fits‑all checklist or technical deep dive.
X-ALT-DESC;FMTTYPE=text/html:<!DOCTYPE html><html><head><title></title></head><body aria-disabled="false"><p style="margin: 12pt 0cm\; line-height: 15pt\;"><em style="color: rgb(0\, 0\, 0)\; font-family: Arial\; font-size: medium\; font-variant-ligatures: normal\; font-variant-caps: normal\; font-weight: 400\; letter-spacing: normal\; orphans: 2\; text-align: start\; text-indent: 0px\; text-transform: none\; widows: 2\; word-spacing: 0px\; -webkit-text-stroke-width: 0px\; white-space: normal\; text-decoration-thickness: initial\; text-decoration-style: initial\; text-decoration-color: initial\;">Presented in plain language by Hazel Trethowen\, Client Manager at Cloudland. &nbsp\;This workshop came about after a conversation with our non-technical EO\, who finally said &ldquo\;now I get it.&rdquo\; It quickly became clear there is a real need for cyber security to be explained without the jargon or technical language that can leave many business owners feeling lost. &nbsp\;</em><em style="color: rgb(0\, 0\, 0)\; font-family: Arial\; font-size: medium\; font-variant-ligatures: normal\; font-variant-caps: normal\; font-weight: 400\; letter-spacing: normal\; orphans: 2\; text-align: start\; text-indent: 0px\; text-transform: none\; widows: 2\; word-spacing: 0px\; -webkit-text-stroke-width: 0px\; white-space: normal\; text-decoration-thickness: initial\; text-decoration-style: initial\; text-decoration-color: initial\;">Hazel will break it down in a way that&rsquo\;s easy to understand\, with practical steps businesses can take away to strengthen their cyber security.&nbsp\;</em></p><p style="margin: 12pt 0cm\; line-height: 15pt\;"><em>Cloudland are valued partners of our Chamber and are pleased to offer this heavily discounted workshop to our members\, supporting businesses across Marlborough.</em></p><p style="margin: 12pt 0cm\; line-height: 15pt\;">Cyber security is no longer just an IT concern &mdash\; it&rsquo\;s a core business risk that affects operations\, reputation\, and financial resilience. This practical\, non‑technical workshop is designed for business owners and leaders who want to better understand cyber risk and the security measures that help reduce it\, without needing deep technical knowledge.</p><p style="margin: 12pt 0cm\; line-height: 15pt\;">Using clear language and real‑world examples\, the session explores how cyber breaches actually occur\, what attackers are typically trying to achieve\, and why organisations of all sizes are targeted. It introduces a layered approach to cyber security &mdash\; covering foundational protections such as email security\, identity protection\, endpoint monitoring\, backups\, and incident planning &mdash\; and explains how these controls work together to reduce risk.</p><p style="margin: 12pt 0cm\; line-height: 15pt\;">Attendees will leave with a clearer understanding of what &ldquo\;good&rdquo\; cyber security looks like\, what questions to ask their IT provider\, and how leadership decisions influence an organisation&rsquo\;s security posture. The session is intended to inform better conversations and smarter decision‑making\, rather than provide a one‑size‑fits‑all checklist or technical deep dive.</p><p><br></p><p style="margin: 12pt 0cm\; line-height: 15pt\;"><br></p></body></html>
LOCATION:Level 1\, 6-8 Scott Street Blenheim Marlborough District 7201
UID:e.2702.1440562
SEQUENCE:3
DTSTAMP:20260424T055242Z
URL:https://business.marlboroughchamber.nz/eventcalendar/Details/cyber-security-for-business-leaders-1705554?sourceTypeId=Hub
END:VEVENT
END:VCALENDAR
