BEGIN:VCALENDAR
VERSION:2.0
PRODID:-//ChamberMaster//Event Calendar 2.0//EN
METHOD:PUBLISH
X-PUBLISHED-TTL:P1H
REFRESH-INTERVAL:P1H
CALSCALE:GREGORIAN
BEGIN:VTIMEZONE
TZID:Pacific/Auckland
BEGIN:DAYLIGHT
RRULE:FREQ=YEARLY;BYMONTH=9;BYDAY=-1SU
DTSTART:20080101T000000
TZOFFSETFROM:1200
TZOFFSETTO:1300
TZNAME:New Zealand Daylight Time
END:DAYLIGHT
BEGIN:STANDARD
RRULE:FREQ=YEARLY;BYMONTH=4;BYDAY=1SU
DTSTART:20080101T000000
TZOFFSETFROM:1300
TZOFFSETTO:1200
TZNAME:New Zealand Standard Time
END:STANDARD
END:VTIMEZONE
BEGIN:VEVENT
DTSTART;TZID=Pacific/Auckland:20260430T180000
DTEND;TZID=Pacific/Auckland:20260430T200000
X-MICROSOFT-CDO-ALLDAYEVENT:FALSE
SUMMARY:Young Chamber: Woodbourne Tavern Pub Quiz
DESCRIPTION:Thursday 30 April | 6:00 PM - 8:00 PM\n\nCalling all Young Chamber members\, It's Pub Quiz time! Come get amongst it Thursday April 30 for an energetic multidisciplinary information retrieval challenge (pub quiz). Graciously hosted and brought to you by Woodbourne Tavern!\n\n*First drink free for members!\n*Nibbles provided
X-ALT-DESC;FMTTYPE=text/html:<!DOCTYPE html><html><head><title></title></head><body aria-disabled="false"><p><strong fr-original-style="" style="font-weight: 700\;">Thursday 30 April | 6:00 PM - 8:00 PM</strong><br><br>Calling all Young Chamber members\, It&#39\;s Pub Quiz time! Come get amongst it Thursday April 30 for an energetic multidisciplinary information retrieval challenge (pub quiz). Graciously hosted and brought to you by Woodbourne Tavern!<br><br>*First drink free for members!<br>*Nibbles provided</p></body></html>
LOCATION:80 HIgh Street RENWICK REWWICK Marlborough District 7204
UID:e.2702.1439765
SEQUENCE:3
DTSTAMP:20260424T054530Z
URL:https://business.marlboroughchamber.nz/eventcalendar/Details/young-chamber-woodbourne-tavern-pub-quiz-1704399?sourceTypeId=Hub
END:VEVENT
END:VCALENDAR
